BEGIN:VCALENDAR
VERSION:2.0
PRODID:-//HACC - ECPv6.15.20//NONSGML v1.0//EN
CALSCALE:GREGORIAN
METHOD:PUBLISH
X-WR-CALNAME:HACC
X-ORIGINAL-URL:https://hacc-sf.com
X-WR-CALDESC:Events for HACC
REFRESH-INTERVAL;VALUE=DURATION:PT1H
X-Robots-Tag:noindex
X-PUBLISHED-TTL:PT1H
BEGIN:VTIMEZONE
TZID:America/Los_Angeles
BEGIN:DAYLIGHT
TZOFFSETFROM:-0800
TZOFFSETTO:-0700
TZNAME:PDT
DTSTART:20230312T100000
END:DAYLIGHT
BEGIN:STANDARD
TZOFFSETFROM:-0700
TZOFFSETTO:-0800
TZNAME:PST
DTSTART:20231105T090000
END:STANDARD
BEGIN:DAYLIGHT
TZOFFSETFROM:-0800
TZOFFSETTO:-0700
TZNAME:PDT
DTSTART:20240310T100000
END:DAYLIGHT
BEGIN:STANDARD
TZOFFSETFROM:-0700
TZOFFSETTO:-0800
TZNAME:PST
DTSTART:20241103T090000
END:STANDARD
BEGIN:DAYLIGHT
TZOFFSETFROM:-0800
TZOFFSETTO:-0700
TZNAME:PDT
DTSTART:20250309T100000
END:DAYLIGHT
BEGIN:STANDARD
TZOFFSETFROM:-0700
TZOFFSETTO:-0800
TZNAME:PST
DTSTART:20251102T090000
END:STANDARD
END:VTIMEZONE
BEGIN:VEVENT
DTSTART;TZID=America/Los_Angeles:20240619T000000
DTEND;TZID=America/Los_Angeles:20240621T235959
DTSTAMP:20260423T160025
CREATED:20240514T172740Z
LAST-MODIFIED:20240720T203726Z
UID:1278-1718755200-1719014399@hacc-sf.com
SUMMARY:Introduction to Artificial Intelligence
DESCRIPTION:Learn the history of AI and how to harness its power in your daily life and business. See AI at work firsthand in this free workshop!   Introduction to Artificial Intelligence Join us for an exciting online event that will demystify the world of Artificial Intelligence (AI). Whether you’re a tech enthusiast or just curious about AI\, this event is perfect for you! Our expert speakers will break down complex concepts into bite-sized pieces\, making it easy for everyone to understand. Why Attend? Learn the Basics: Get a comprehensive introduction to AI and understand its real-world applications.Discover Cutting-Edge Technologies: Explore the latest advancements in AI and how they are shaping various industries.Engage with Experts: Interact with industry professionals and gain insights into the future of AI.Networking Opportunities: Connect with like-minded individuals who share your passion for AI.Don’t miss out on this incredible opportunity to dive into the fascinating world of AI. Register now and get ready to expand your knowledge!
URL:https://hacc-sf.com/event/introduction-to-artificial-intelligence/
LOCATION:Online\, CA\, United States
CATEGORIES:Conference
ATTACH;FMTTYPE=image/jpeg:https://hacc-sf.com/wp-content/uploads/2024/05/artificial_intelligence_logo.jpg
ORGANIZER;CN="AI Academy":MAILTO:aiacademy@gmail.com
END:VEVENT
END:VCALENDAR